BEGIN:VCALENDAR
VERSION:2.0
PRODID:-//Grupo Scout La Yecla - ECPv6.15.20//NONSGML v1.0//EN
CALSCALE:GREGORIAN
METHOD:PUBLISH
X-ORIGINAL-URL:https://layecla.es
X-WR-CALDESC:Eventos para Grupo Scout La Yecla
REFRESH-INTERVAL;VALUE=DURATION:PT1H
X-Robots-Tag:noindex
X-PUBLISHED-TTL:PT1H
BEGIN:VTIMEZONE
TZID:UTC
BEGIN:STANDARD
TZOFFSETFROM:+0000
TZOFFSETTO:+0000
TZNAME:UTC
DTSTART:20250101T000000
END:STANDARD
END:VTIMEZONE
BEGIN:VEVENT
DTSTART;TZID=UTC:20260713T080000
DTEND;TZID=UTC:20260726T170000
DTSTAMP:20260421T055939
CREATED:20260408T215905Z
LAST-MODIFIED:20260408T215906Z
UID:1264-1783929600-1785085200@layecla.es
SUMMARY:CAMPAMENTO DE VERANO 2026
DESCRIPTION:🌞 ¡Campamento de Verano 2026 – Grupo Scout La Yecla! 🏕️ \n\n\n\n📍 Vallejimeno (Burgos)📅 Del 13 al 26 de julio👧🧒 Para chavales de 6 a 17 años \n\n\n\n💶 Precios:– Socios: 235€ (Hermanos: 1º hijo 235€\, 2º hijo 220€…)– No socios: 295€ \n\n\n\n📌 Último día para apuntarse: 21 de Junio \n\n\n\n❓ Cualquier duda que tengáis\, no dudéis en preguntarnos. ¡Estamos para ayudaros! \n\n\n\n¡Va a ser un campamento inolvidable! 💜💚
URL:https://layecla.es/evento/campamento-de-verano-2026/
ATTACH;FMTTYPE=image/jpeg:https://layecla.es/wp-content/uploads/2026/04/photo_5954127538160340246_w.jpg
END:VEVENT
END:VCALENDAR